Package: GeneExpressionSignature Version: 1.53.0 Command: /home/biocbuild/bbs-3.21-bioc/R/bin/R CMD build --keep-empty-dirs --no-resave-data GeneExpressionSignature StartedAt: 2025-02-03 17:29:16 -0500 (Mon, 03 Feb 2025) EndedAt: 2025-02-03 17:29:42 -0500 (Mon, 03 Feb 2025) EllapsedTime: 26.0 seconds RetCode: 0 Status: OK PackageFile: GeneExpressionSignature_1.53.0.tar.gz PackageFileSize: 2.545 MiB