Package: GeneExpressionSignature Version: 1.53.0 Command: E:\biocbuild\bbs-3.21-bioc\R\bin\R.exe CMD check --no-multiarch --install=check:GeneExpressionSignature.install-out.txt --library=E:\biocbuild\bbs-3.21-bioc\R\library --no-vignettes --timings GeneExpressionSignature_1.53.0.tar.gz StartedAt: 2025-02-04 01:49:15 -0500 (Tue, 04 Feb 2025) EndedAt: 2025-02-04 01:50:15 -0500 (Tue, 04 Feb 2025) EllapsedTime: 59.7 seconds RetCode: 0 Status: OK CheckDir: GeneExpressionSignature.Rcheck Warnings: 0