Package: GeneExpressionSignature Version: 1.53.0 Command: E:\biocbuild\bbs-3.21-bioc\R\bin\R.exe CMD INSTALL GeneExpressionSignature StartedAt: 2025-02-09 15:26:18 -0500 (Sun, 09 Feb 2025) EndedAt: 2025-02-09 15:27:37 -0500 (Sun, 09 Feb 2025) EllapsedTime: 78.7 seconds RetCode: 0 Status: OK