Package: GeneGA Version: 1.57.0 Command: /Library/Frameworks/R.framework/Resources/bin/R CMD build --keep-empty-dirs --no-resave-data GeneGA StartedAt: 2025-02-12 16:23:53 -0500 (Wed, 12 Feb 2025) EndedAt: 2025-02-12 16:23:55 -0500 (Wed, 12 Feb 2025) EllapsedTime: 2.0 seconds RetCode: 1 Status: ERROR PackageFile: None PackageFileSize: NA