Package: GeneGA Version: 1.57.0 Command: /home/biocbuild/R/R/bin/R CMD build --keep-empty-dirs --no-resave-data GeneGA StartedAt: 2025-01-28 23:04:08 -0000 (Tue, 28 Jan 2025) EndedAt: 2025-01-28 23:05:31 -0000 (Tue, 28 Jan 2025) EllapsedTime: 83.0 seconds RetCode: 0 Status: OK PackageFile: GeneGA_1.57.0.tar.gz PackageFileSize: 239.6 KiB