Package: GeneGA Version: 1.57.0 Command: /home/biocbuild/R/R/bin/R CMD INSTALL GeneGA StartedAt: 2025-01-29 19:36:44 -0000 (Wed, 29 Jan 2025) EndedAt: 2025-01-29 19:37:05 -0000 (Wed, 29 Jan 2025) EllapsedTime: 20.7 seconds RetCode: 0 Status: OK