Package: GeneGA Version: 1.57.0 Command: /Library/Frameworks/R.framework/Resources/bin/R CMD build --keep-empty-dirs --no-resave-data GeneGA StartedAt: 2025-02-09 16:50:42 -0500 (Sun, 09 Feb 2025) EndedAt: 2025-02-09 16:53:34 -0500 (Sun, 09 Feb 2025) EllapsedTime: 171.6 seconds RetCode: 0 Status: OK PackageFile: GeneGA_1.57.0.tar.gz PackageFileSize: 228.7 KiB