Package: GeneMeta Version: 1.79.0 Command: rm -rf GeneMeta.buildbin-libdir && mkdir GeneMeta.buildbin-libdir && /Users/biocbuild/BBS/utils/build-universal.sh GeneMeta_1.79.0.tar.gz /Library/Frameworks/R.framework/Resources/bin/R GeneMeta.buildbin-libdir StartedAt: 2025-02-13 00:37:57 -0500 (Thu, 13 Feb 2025) EndedAt: 2025-02-13 00:38:22 -0500 (Thu, 13 Feb 2025) EllapsedTime: 25.3 seconds RetCode: 0 Status: OK PackageFile: GeneMeta_1.79.0.tgz PackageFileSize: 2.739 MiB