Package: GeneMeta Version: 1.79.0 Command: /home/biocbuild/bbs-3.21-bioc/R/bin/R CMD check --install=check:GeneMeta.install-out.txt --library=/home/biocbuild/bbs-3.21-bioc/R/site-library --timings GeneMeta_1.79.0.tar.gz StartedAt: 2025-02-09 22:32:43 -0500 (Sun, 09 Feb 2025) EndedAt: 2025-02-09 22:34:15 -0500 (Sun, 09 Feb 2025) EllapsedTime: 92.1 seconds RetCode: 0 Status: OK CheckDir: GeneMeta.Rcheck Warnings: 0