Package: GeneMeta Version: 1.79.0 Command: chmod a+r GeneMeta -R && E:\biocbuild\bbs-3.21-bioc\R\bin\R.exe CMD build --keep-empty-dirs --no-resave-data GeneMeta StartedAt: 2025-02-09 18:51:30 -0500 (Sun, 09 Feb 2025) EndedAt: 2025-02-09 18:52:10 -0500 (Sun, 09 Feb 2025) EllapsedTime: 39.5 seconds RetCode: 0 Status: OK PackageFile: GeneMeta_1.79.0.tar.gz PackageFileSize: 2.612 MiB