Package: GeneMeta Version: 1.79.0 Command: E:\biocbuild\bbs-3.21-bioc\R\bin\R.exe CMD INSTALL GeneMeta StartedAt: 2025-02-09 16:00:04 -0500 (Sun, 09 Feb 2025) EndedAt: 2025-02-09 16:00:26 -0500 (Sun, 09 Feb 2025) EllapsedTime: 21.7 seconds RetCode: 0 Status: OK