Package: GeneNetworkBuilder Version: 1.49.1 Command: rm -rf GeneNetworkBuilder.buildbin-libdir && mkdir GeneNetworkBuilder.buildbin-libdir && /Users/biocbuild/BBS/utils/build-universal.sh GeneNetworkBuilder_1.49.1.tar.gz /Library/Frameworks/R.framework/Resources/bin/R GeneNetworkBuilder.buildbin-libdir StartedAt: 2025-02-09 22:15:22 -0500 (Sun, 09 Feb 2025) EndedAt: 2025-02-09 22:15:31 -0500 (Sun, 09 Feb 2025) EllapsedTime: 8.1 seconds RetCode: 0 Status: OK PackageFile: GeneNetworkBuilder_1.49.1.tgz PackageFileSize: 7.274 MiB