Package: GeneNetworkBuilder Version: 1.49.1 Command: /Library/Frameworks/R.framework/Resources/bin/R CMD build --keep-empty-dirs --no-resave-data GeneNetworkBuilder StartedAt: 2025-02-09 16:24:05 -0500 (Sun, 09 Feb 2025) EndedAt: 2025-02-09 16:27:41 -0500 (Sun, 09 Feb 2025) EllapsedTime: 215.4 seconds RetCode: 0 Status: OK PackageFile: GeneNetworkBuilder_1.49.1.tar.gz PackageFileSize: 7.391 MiB