Package: GeneNetworkBuilder Version: 1.49.1 Command: /home/biocbuild/R/R/bin/R CMD INSTALL GeneNetworkBuilder StartedAt: 2025-01-29 20:14:46 -0000 (Wed, 29 Jan 2025) EndedAt: 2025-01-29 20:15:11 -0000 (Wed, 29 Jan 2025) EllapsedTime: 25.7 seconds RetCode: 0 Status: OK