Package: GeneNetworkBuilder Version: 1.49.1 Command: /Library/Frameworks/R.framework/Resources/bin/R CMD build --keep-empty-dirs --no-resave-data GeneNetworkBuilder StartedAt: 2025-02-03 16:51:53 -0500 (Mon, 03 Feb 2025) EndedAt: 2025-02-03 16:58:35 -0500 (Mon, 03 Feb 2025) EllapsedTime: 401.7 seconds RetCode: 0 Status: OK PackageFile: GeneNetworkBuilder_1.49.1.tar.gz PackageFileSize: 7.39 MiB