Package: GeneNetworkBuilder Version: 1.49.1 Command: /Library/Frameworks/R.framework/Resources/bin/R CMD INSTALL GeneNetworkBuilder StartedAt: 2025-02-09 15:31:14 -0500 (Sun, 09 Feb 2025) EndedAt: 2025-02-09 15:31:38 -0500 (Sun, 09 Feb 2025) EllapsedTime: 24.0 seconds RetCode: 0 Status: OK