Package: GeneNetworkBuilder Version: 1.49.1 Command: /home/biocbuild/bbs-3.21-bioc/R/bin/R CMD build --keep-empty-dirs --no-resave-data GeneNetworkBuilder StartedAt: 2025-02-09 17:20:46 -0500 (Sun, 09 Feb 2025) EndedAt: 2025-02-09 17:30:02 -0500 (Sun, 09 Feb 2025) EllapsedTime: 556.6 seconds RetCode: 0 Status: OK PackageFile: GeneNetworkBuilder_1.49.1.tar.gz PackageFileSize: 7.376 MiB