Package: GeneNetworkBuilder Version: 1.49.1 Command: rm -rf GeneNetworkBuilder.buildbin-libdir && mkdir GeneNetworkBuilder.buildbin-libdir && E:\biocbuild\bbs-3.21-bioc\R\bin\R.exe CMD INSTALL --build --library=GeneNetworkBuilder.buildbin-libdir GeneNetworkBuilder_1.49.1.tar.gz StartedAt: 2025-02-04 08:01:42 -0500 (Tue, 04 Feb 2025) EndedAt: 2025-02-04 08:03:56 -0500 (Tue, 04 Feb 2025) EllapsedTime: 133.6 seconds RetCode: 0 Status: OK PackageFile: GeneNetworkBuilder_1.49.1.zip PackageFileSize: 7.473 MiB