Package: GeneNetworkBuilder Version: 1.49.1 Command: chmod a+r GeneNetworkBuilder -R && E:\biocbuild\bbs-3.21-bioc\R\bin\R.exe CMD build --keep-empty-dirs --no-resave-data GeneNetworkBuilder StartedAt: 2025-02-09 18:51:39 -0500 (Sun, 09 Feb 2025) EndedAt: 2025-02-09 18:58:04 -0500 (Sun, 09 Feb 2025) EllapsedTime: 385.2 seconds RetCode: 0 Status: OK PackageFile: GeneNetworkBuilder_1.49.1.tar.gz PackageFileSize: 7.275 MiB