Package: GeneNetworkBuilder Version: 1.49.1 Command: E:\biocbuild\bbs-3.21-bioc\R\bin\R.exe CMD INSTALL GeneNetworkBuilder StartedAt: 2025-02-03 16:09:41 -0500 (Mon, 03 Feb 2025) EndedAt: 2025-02-03 16:11:49 -0500 (Mon, 03 Feb 2025) EllapsedTime: 128.2 seconds RetCode: 0 Status: OK