Package: GeneSelectMMD Version: 2.51.0 Command: rm -rf GeneSelectMMD.buildbin-libdir && mkdir GeneSelectMMD.buildbin-libdir && /Users/biocbuild/BBS/utils/build-universal.sh GeneSelectMMD_2.51.0.tar.gz /Library/Frameworks/R.framework/Resources/bin/R GeneSelectMMD.buildbin-libdir StartedAt: 2025-02-04 22:17:19 -0500 (Tue, 04 Feb 2025) EndedAt: 2025-02-04 22:17:24 -0500 (Tue, 04 Feb 2025) EllapsedTime: 5.1 seconds RetCode: 0 Status: OK PackageFile: GeneSelectMMD_2.51.0.tgz PackageFileSize: 550.2 KiB