Package: GeneSelectMMD Version: 2.51.0 Command: /Library/Frameworks/R.framework/Resources/bin/R CMD build --keep-empty-dirs --no-resave-data GeneSelectMMD StartedAt: 2025-02-04 16:24:55 -0500 (Tue, 04 Feb 2025) EndedAt: 2025-02-04 16:25:03 -0500 (Tue, 04 Feb 2025) EllapsedTime: 8.1 seconds RetCode: 0 Status: OK PackageFile: GeneSelectMMD_2.51.0.tar.gz PackageFileSize: 455 KiB