Package: GeneSelectMMD Version: 2.51.0 Command: /Library/Frameworks/R.framework/Resources/bin/R CMD check --install=check:GeneSelectMMD.install-out.txt --library=/Library/Frameworks/R.framework/Resources/library --no-vignettes --timings GeneSelectMMD_2.51.0.tar.gz StartedAt: 2025-02-04 19:23:04 -0500 (Tue, 04 Feb 2025) EndedAt: 2025-02-04 19:23:19 -0500 (Tue, 04 Feb 2025) EllapsedTime: 15.2 seconds RetCode: 0 Status: WARNINGS CheckDir: GeneSelectMMD.Rcheck Warnings: 1