Package: GeneSelectMMD Version: 2.51.0 Command: /home/biocbuild/R/R/bin/R CMD INSTALL GeneSelectMMD StartedAt: 2025-01-29 19:35:17 -0000 (Wed, 29 Jan 2025) EndedAt: 2025-01-29 19:35:27 -0000 (Wed, 29 Jan 2025) EllapsedTime: 10.1 seconds RetCode: 0 Status: OK