Package: GeneSelectMMD Version: 2.51.0 Command: /home/biocbuild/bbs-3.21-bioc/R/bin/R CMD build --keep-empty-dirs --no-resave-data GeneSelectMMD StartedAt: 2025-02-09 17:21:13 -0500 (Sun, 09 Feb 2025) EndedAt: 2025-02-09 17:21:26 -0500 (Sun, 09 Feb 2025) EllapsedTime: 13.0 seconds RetCode: 0 Status: OK PackageFile: GeneSelectMMD_2.51.0.tar.gz PackageFileSize: 455 KiB