Package: GeneTonic Version: 3.1.2 Command: /Library/Frameworks/R.framework/Resources/bin/R CMD INSTALL GeneTonic StartedAt: 2025-02-12 15:24:00 -0500 (Wed, 12 Feb 2025) EndedAt: 2025-02-12 15:24:21 -0500 (Wed, 12 Feb 2025) EllapsedTime: 21.3 seconds RetCode: 0 Status: OK