Package: GeneTonic Version: 3.1.2 Command: /home/biocbuild/R/R/bin/R CMD build --keep-empty-dirs --no-resave-data GeneTonic StartedAt: 2025-01-28 23:05:49 -0000 (Tue, 28 Jan 2025) EndedAt: 2025-01-28 23:08:36 -0000 (Tue, 28 Jan 2025) EllapsedTime: 167.1 seconds RetCode: 0 Status: OK PackageFile: GeneTonic_3.1.2.tar.gz PackageFileSize: 8.094 MiB