Package: GeneTonic Version: 3.1.2 Command: /home/biocbuild/R/R/bin/R CMD check --install=check:GeneTonic.install-out.txt --library=/home/biocbuild/R/R/site-library --no-vignettes --timings GeneTonic_3.1.2.tar.gz StartedAt: 2025-01-28 10:53:37 -0000 (Tue, 28 Jan 2025) EndedAt: 2025-01-28 11:07:56 -0000 (Tue, 28 Jan 2025) EllapsedTime: 859.6 seconds RetCode: 0 Status: WARNINGS CheckDir: GeneTonic.Rcheck Warnings: 5