Package: GeneTonic Version: 3.1.2 Command: /home/biocbuild/R/R/bin/R CMD INSTALL GeneTonic StartedAt: 2025-01-29 20:25:44 -0000 (Wed, 29 Jan 2025) EndedAt: 2025-01-29 20:26:56 -0000 (Wed, 29 Jan 2025) EllapsedTime: 72.3 seconds RetCode: 0 Status: OK