Package: GeneTonic Version: 3.1.2 Command: /Library/Frameworks/R.framework/Resources/bin/R CMD build --keep-empty-dirs --no-resave-data GeneTonic StartedAt: 2025-02-09 16:51:33 -0500 (Sun, 09 Feb 2025) EndedAt: 2025-02-09 16:53:42 -0500 (Sun, 09 Feb 2025) EllapsedTime: 129.2 seconds RetCode: 0 Status: OK PackageFile: GeneTonic_3.1.2.tar.gz PackageFileSize: 9.869 MiB