Package: GeneTonic Version: 3.1.2 Command: /home/biocbuild/bbs-3.21-bioc/R/bin/R CMD build --keep-empty-dirs --no-resave-data GeneTonic StartedAt: 2025-02-09 17:21:39 -0500 (Sun, 09 Feb 2025) EndedAt: 2025-02-09 17:23:37 -0500 (Sun, 09 Feb 2025) EllapsedTime: 118.1 seconds RetCode: 0 Status: OK PackageFile: GeneTonic_3.1.2.tar.gz PackageFileSize: 9.581 MiB