Package: GeneTonic Version: 3.1.2 Command: /home/biocbuild/bbs-3.21-bioc/R/bin/R CMD check --install=check:GeneTonic.install-out.txt --library=/home/biocbuild/bbs-3.21-bioc/R/site-library --timings GeneTonic_3.1.2.tar.gz StartedAt: 2025-02-09 22:34:22 -0500 (Sun, 09 Feb 2025) EndedAt: 2025-02-09 22:46:35 -0500 (Sun, 09 Feb 2025) EllapsedTime: 732.9 seconds RetCode: 0 Status: OK CheckDir: GeneTonic.Rcheck Warnings: 0