Package: GeneTonic Version: 3.1.2 Command: /home/biocbuild/bbs-3.21-bioc/R/bin/R CMD INSTALL GeneTonic StartedAt: 2025-02-09 15:48:17 -0500 (Sun, 09 Feb 2025) EndedAt: 2025-02-09 15:49:10 -0500 (Sun, 09 Feb 2025) EllapsedTime: 53.3 seconds RetCode: 0 Status: OK