Package: GeneTonic Version: 3.1.2 Command: rm -rf GeneTonic.buildbin-libdir && mkdir GeneTonic.buildbin-libdir && E:\biocbuild\bbs-3.21-bioc\R\bin\R.exe CMD INSTALL --build --library=GeneTonic.buildbin-libdir GeneTonic_3.1.2.tar.gz StartedAt: 2025-02-13 07:59:41 -0500 (Thu, 13 Feb 2025) EndedAt: 2025-02-13 08:01:00 -0500 (Thu, 13 Feb 2025) EllapsedTime: 79.5 seconds RetCode: 0 Status: OK PackageFile: GeneTonic_3.1.2.zip PackageFileSize: 7.659 MiB