Package: GeneTonic Version: 3.1.2 Command: chmod a+r GeneTonic -R && E:\biocbuild\bbs-3.21-bioc\R\bin\R.exe CMD build --keep-empty-dirs --no-resave-data GeneTonic StartedAt: 2025-02-09 18:52:44 -0500 (Sun, 09 Feb 2025) EndedAt: 2025-02-09 18:55:26 -0500 (Sun, 09 Feb 2025) EllapsedTime: 161.8 seconds RetCode: 0 Status: OK PackageFile: GeneTonic_3.1.2.tar.gz PackageFileSize: 7.548 MiB