Package: GeneTonic Version: 3.1.2 Command: E:\biocbuild\bbs-3.21-bioc\R\bin\R.exe CMD INSTALL GeneTonic StartedAt: 2025-02-12 16:42:03 -0500 (Wed, 12 Feb 2025) EndedAt: 2025-02-12 16:43:27 -0500 (Wed, 12 Feb 2025) EllapsedTime: 84.3 seconds RetCode: 0 Status: OK