Package: GenomicDistributions Version: 1.15.0 Command: rm -rf GenomicDistributions.buildbin-libdir && mkdir GenomicDistributions.buildbin-libdir && /Users/biocbuild/BBS/utils/build-universal.sh GenomicDistributions_1.15.0.tar.gz /Library/Frameworks/R.framework/Resources/bin/R GenomicDistributions.buildbin-libdir StartedAt: 2025-02-09 22:15:35 -0500 (Sun, 09 Feb 2025) EndedAt: 2025-02-09 22:15:42 -0500 (Sun, 09 Feb 2025) EllapsedTime: 7.1 seconds RetCode: 0 Status: OK PackageFile: GenomicDistributions_1.15.0.tgz PackageFileSize: 5.651 MiB