Package: GenomicDistributions Version: 1.15.0 Command: rm -rf GenomicDistributions.buildbin-libdir && mkdir GenomicDistributions.buildbin-libdir && /Users/biocbuild/BBS/utils/build-universal.sh GenomicDistributions_1.15.0.tar.gz /Library/Frameworks/R.framework/Resources/bin/R GenomicDistributions.buildbin-libdir StartedAt: 2025-02-10 00:55:10 -0500 (Mon, 10 Feb 2025) EndedAt: 2025-02-10 00:55:35 -0500 (Mon, 10 Feb 2025) EllapsedTime: 25.3 seconds RetCode: 0 Status: OK PackageFile: GenomicDistributions_1.15.0.tgz PackageFileSize: 5.646 MiB