Package: GenomicDistributions Version: 1.15.0 Command: /home/biocbuild/bbs-3.21-bioc/R/bin/R CMD build --keep-empty-dirs --no-resave-data GenomicDistributions StartedAt: 2025-02-10 17:31:06 -0500 (Mon, 10 Feb 2025) EndedAt: 2025-02-10 17:32:09 -0500 (Mon, 10 Feb 2025) EllapsedTime: 63.1 seconds RetCode: 0 Status: OK PackageFile: GenomicDistributions_1.15.0.tar.gz PackageFileSize: 6.25 MiB