Package: GenomicDistributions Version: 1.15.0 Command: /home/biocbuild/bbs-3.21-bioc/R/bin/R CMD INSTALL GenomicDistributions StartedAt: 2025-02-10 15:23:46 -0500 (Mon, 10 Feb 2025) EndedAt: 2025-02-10 15:24:00 -0500 (Mon, 10 Feb 2025) EllapsedTime: 14.2 seconds RetCode: 0 Status: OK