Package: GenomicDistributions Version: 1.15.0 Command: E:\biocbuild\bbs-3.21-bioc\R\bin\R.exe CMD INSTALL GenomicDistributions StartedAt: 2025-02-10 16:12:55 -0500 (Mon, 10 Feb 2025) EndedAt: 2025-02-10 16:16:21 -0500 (Mon, 10 Feb 2025) EllapsedTime: 206.7 seconds RetCode: 0 Status: OK