Package: GenomicFiles Version: 1.43.0 Command: /Library/Frameworks/R.framework/Resources/bin/R CMD build --keep-empty-dirs --no-resave-data GenomicFiles StartedAt: 2025-02-09 16:52:08 -0500 (Sun, 09 Feb 2025) EndedAt: 2025-02-09 16:53:34 -0500 (Sun, 09 Feb 2025) EllapsedTime: 85.7 seconds RetCode: 0 Status: OK PackageFile: GenomicFiles_1.43.0.tar.gz PackageFileSize: 712.5 KiB