Package: GenomicFiles Version: 1.43.0 Command: /home/biocbuild/bbs-3.21-bioc/R/bin/R CMD check --install=check:GenomicFiles.install-out.txt --library=/home/biocbuild/bbs-3.21-bioc/R/site-library --timings GenomicFiles_1.43.0.tar.gz StartedAt: 2025-02-09 22:35:59 -0500 (Sun, 09 Feb 2025) EndedAt: 2025-02-09 22:42:49 -0500 (Sun, 09 Feb 2025) EllapsedTime: 410.4 seconds RetCode: 0 Status: WARNINGS CheckDir: GenomicFiles.Rcheck Warnings: 1