Package: GenomicFiles Version: 1.43.0 Command: E:\biocbuild\bbs-3.21-bioc\R\bin\R.exe CMD check --no-multiarch --install=check:GenomicFiles.install-out.txt --library=E:\biocbuild\bbs-3.21-bioc\R\library --no-vignettes --timings GenomicFiles_1.43.0.tar.gz StartedAt: 2025-02-10 01:24:36 -0500 (Mon, 10 Feb 2025) EndedAt: 2025-02-10 01:38:52 -0500 (Mon, 10 Feb 2025) EllapsedTime: 855.5 seconds RetCode: 0 Status: WARNINGS CheckDir: GenomicFiles.Rcheck Warnings: 1