Package: GenomicInteractionNodes Version: 1.11.2 Command: rm -rf GenomicInteractionNodes.buildbin-libdir && mkdir GenomicInteractionNodes.buildbin-libdir && /Users/biocbuild/BBS/utils/build-universal.sh GenomicInteractionNodes_1.11.2.tar.gz /Library/Frameworks/R.framework/Resources/bin/R GenomicInteractionNodes.buildbin-libdir StartedAt: 2025-02-09 22:15:38 -0500 (Sun, 09 Feb 2025) EndedAt: 2025-02-09 22:15:53 -0500 (Sun, 09 Feb 2025) EllapsedTime: 15.3 seconds RetCode: 0 Status: OK PackageFile: GenomicInteractionNodes_1.11.2.tgz PackageFileSize: 273.9 KiB