Package: GenomicInteractionNodes Version: 1.11.2 Command: /Library/Frameworks/R.framework/Resources/bin/R CMD build --keep-empty-dirs --no-resave-data GenomicInteractionNodes StartedAt: 2025-02-09 16:25:23 -0500 (Sun, 09 Feb 2025) EndedAt: 2025-02-09 16:26:07 -0500 (Sun, 09 Feb 2025) EllapsedTime: 43.5 seconds RetCode: 0 Status: OK PackageFile: GenomicInteractionNodes_1.11.2.tar.gz PackageFileSize: 248.3 KiB