Package: GenomicInteractionNodes Version: 1.11.2 Command: /Library/Frameworks/R.framework/Resources/bin/R CMD check --install=check:GenomicInteractionNodes.install-out.txt --library=/Library/Frameworks/R.framework/Resources/library --no-vignettes --timings GenomicInteractionNodes_1.11.2.tar.gz StartedAt: 2025-02-09 19:23:15 -0500 (Sun, 09 Feb 2025) EndedAt: 2025-02-09 19:25:47 -0500 (Sun, 09 Feb 2025) EllapsedTime: 151.7 seconds RetCode: 0 Status: OK CheckDir: GenomicInteractionNodes.Rcheck Warnings: 0