Package: GenomicInteractionNodes Version: 1.11.2 Command: /Library/Frameworks/R.framework/Resources/bin/R CMD INSTALL GenomicInteractionNodes StartedAt: 2025-02-09 15:09:16 -0500 (Sun, 09 Feb 2025) EndedAt: 2025-02-09 15:09:30 -0500 (Sun, 09 Feb 2025) EllapsedTime: 13.4 seconds RetCode: 0 Status: OK