Package: GenomicInteractionNodes Version: 1.11.1 Command: /home/biocbuild/R/R/bin/R CMD build --keep-empty-dirs --no-resave-data GenomicInteractionNodes StartedAt: 2025-01-28 23:07:45 -0000 (Tue, 28 Jan 2025) EndedAt: 2025-01-28 23:10:07 -0000 (Tue, 28 Jan 2025) EllapsedTime: 142.1 seconds RetCode: 0 Status: OK PackageFile: GenomicInteractionNodes_1.11.1.tar.gz PackageFileSize: 274.3 KiB