Package: GenomicInteractionNodes Version: 1.11.1 Command: /home/biocbuild/R/R/bin/R CMD check --install=check:GenomicInteractionNodes.install-out.txt --library=/home/biocbuild/R/R/site-library --no-vignettes --timings GenomicInteractionNodes_1.11.1.tar.gz StartedAt: 2025-01-28 10:55:16 -0000 (Tue, 28 Jan 2025) EndedAt: 2025-01-28 11:03:56 -0000 (Tue, 28 Jan 2025) EllapsedTime: 520.3 seconds RetCode: 0 Status: OK CheckDir: GenomicInteractionNodes.Rcheck Warnings: 0